BEGIN:VCALENDAR
VERSION:2.0
PRODID:-// - ECPv6.6.3//NONSGML v1.0//EN
CALSCALE:GREGORIAN
METHOD:PUBLISH
X-ORIGINAL-URL:https://www.biomed.cas.cz
X-WR-CALDESC:Akce na 
REFRESH-INTERVAL;VALUE=DURATION:PT1H
X-Robots-Tag:noindex
X-PUBLISHED-TTL:PT1H
BEGIN:VTIMEZONE
TZID:Europe/Prague
BEGIN:DAYLIGHT
TZOFFSETFROM:+0100
TZOFFSETTO:+0200
TZNAME:CEST
DTSTART:20230326T010000
END:DAYLIGHT
BEGIN:STANDARD
TZOFFSETFROM:+0200
TZOFFSETTO:+0100
TZNAME:CET
DTSTART:20231029T010000
END:STANDARD
END:VTIMEZONE
BEGIN:VEVENT
DTSTART;TZID=Europe/Prague:20231016T150000
DTEND;TZID=Europe/Prague:20231016T160000
DTSTAMP:20260419T143323
CREATED:20231004T074139Z
LAST-MODIFIED:20231004T074139Z
UID:662-1697468400-1697472000@www.biomed.cas.cz
SUMMARY:Lecture "Parvalbumin interneurons: A hothouse flower in the brain?"
DESCRIPTION:RNDr. Jan Svoboda Ph.D. – Laboratory of Neurophysiology of Memory
URL:https://www.biomed.cas.cz/event/lecture-parvalbumin-interneurons-a-hothouse-flower-in-the-brain/
LOCATION:Kinosal\, Vídeňská 1083\, Praha
ORGANIZER;CN="FGU":MAILTO:Olga.Zimmermannova@fgu.cas.cz
END:VEVENT
END:VCALENDAR