BEGIN:VCALENDAR
VERSION:2.0
PRODID:-// - ECPv6.6.3//NONSGML v1.0//EN
CALSCALE:GREGORIAN
METHOD:PUBLISH
X-ORIGINAL-URL:https://www.biomed.cas.cz
X-WR-CALDESC:Akce na 
REFRESH-INTERVAL;VALUE=DURATION:PT1H
X-Robots-Tag:noindex
X-PUBLISHED-TTL:PT1H
BEGIN:VTIMEZONE
TZID:Europe/Prague
BEGIN:DAYLIGHT
TZOFFSETFROM:+0100
TZOFFSETTO:+0200
TZNAME:CEST
DTSTART:20230326T010000
END:DAYLIGHT
BEGIN:STANDARD
TZOFFSETFROM:+0200
TZOFFSETTO:+0100
TZNAME:CET
DTSTART:20231029T010000
END:STANDARD
END:VTIMEZONE
BEGIN:VEVENT
DTSTART;TZID=Europe/Prague:20231122T150000
DTEND;TZID=Europe/Prague:20231122T160000
DTSTAMP:20260419T195940
CREATED:20231115T123407Z
LAST-MODIFIED:20231115T134822Z
UID:714-1700665200-1700668800@www.biomed.cas.cz
SUMMARY:Seminář - RNDr. Ondřej Mihola\, Ph.D.
DESCRIPTION:“A chance for fertility despite bad DNA breaks (AKA The effect of crossing-over rate on fertility)” \nProgrammed meiotic DNA breaks are essential for mammalian fertility but dangerous for genome integrity. DNA-binding H3-lysine-trimethyltransferase PRDM9 determines the positions of the meiotic DNA breaks\, which can be repaired as crossovers or noncrossovers. The crossover/noncrossover decision is regulated by many factors that include RING-domain E3 ligase RNF212. The dosage of the Rnf212 gene in mouse affects the crossover rate per meiotic cell and variants in the human RNF212 gene are associated with crossover rates. Deficiency for RNF212 leads to complete arrest of meiosis at the metaphase stage. The deficiency for human and rodent PRDM9 causes partial to complete pachytene arrest\, depending on unknown genetic factors. We will present results demonstrating that the dosage of Rnf212 (and thus crossover rate) affects meiotic progression and germ cell counts of semisterile Prdm9-deficient mice. Our findings offer an insight into the mechanisms and treatment possibilities of some cases of infertility. \n 
URL:https://www.biomed.cas.cz/event/seminar-ondrej-mihola-ph-d/
LOCATION:Posluchárna Milana Haška / Milan Hašek Auditorium
END:VEVENT
END:VCALENDAR