BEGIN:VCALENDAR
VERSION:2.0
PRODID:-// - ECPv6.6.3//NONSGML v1.0//EN
CALSCALE:GREGORIAN
METHOD:PUBLISH
X-ORIGINAL-URL:https://www.biomed.cas.cz
X-WR-CALDESC:Akce na 
REFRESH-INTERVAL;VALUE=DURATION:PT1H
X-Robots-Tag:noindex
X-PUBLISHED-TTL:PT1H
BEGIN:VTIMEZONE
TZID:Europe/Prague
BEGIN:DAYLIGHT
TZOFFSETFROM:+0100
TZOFFSETTO:+0200
TZNAME:CEST
DTSTART:20240331T010000
END:DAYLIGHT
BEGIN:STANDARD
TZOFFSETFROM:+0200
TZOFFSETTO:+0100
TZNAME:CET
DTSTART:20241027T010000
END:STANDARD
END:VTIMEZONE
BEGIN:VEVENT
DTSTART;TZID=Europe/Prague:20240131T150000
DTEND;TZID=Europe/Prague:20240131T160000
DTSTAMP:20260419T215306
CREATED:20240117T065534Z
LAST-MODIFIED:20240117T065534Z
UID:767-1706713200-1706716800@www.biomed.cas.cz
SUMMARY:Seminář Maria Kuzmina\, M.Sc.
DESCRIPTION:“HSCs in inflammation: go extramedullary or go home” \nHematopoietic stem cells (HSCs) are a rare cell type residing in the bone marrow and giving rise to all hematopoietic cells. Despite their quiescence\, HSCs respond to extracellular signals which regulate their fate. In this presentation\, we will determine how of chronic inflammation affects HSC location and function.
URL:https://www.biomed.cas.cz/event/seminar-maria-kuzmina-m-sc/
LOCATION:Posluchárna Milana Haška / Milan Hašek Auditorium
ORGANIZER;CN="%C3%9AMG":MAILTO:leona.krausova@img.cas.cz
END:VEVENT
END:VCALENDAR