BEGIN:VCALENDAR
VERSION:2.0
PRODID:-// - ECPv6.6.3//NONSGML v1.0//EN
CALSCALE:GREGORIAN
METHOD:PUBLISH
X-ORIGINAL-URL:https://www.biomed.cas.cz
X-WR-CALDESC:Akce na 
REFRESH-INTERVAL;VALUE=DURATION:PT1H
X-Robots-Tag:noindex
X-PUBLISHED-TTL:PT1H
BEGIN:VTIMEZONE
TZID:Europe/Prague
BEGIN:DAYLIGHT
TZOFFSETFROM:+0100
TZOFFSETTO:+0200
TZNAME:CEST
DTSTART:20240331T010000
END:DAYLIGHT
BEGIN:STANDARD
TZOFFSETFROM:+0200
TZOFFSETTO:+0100
TZNAME:CET
DTSTART:20241027T010000
END:STANDARD
END:VTIMEZONE
BEGIN:VEVENT
DTSTART;TZID=Europe/Prague:20240220T140000
DTEND;TZID=Europe/Prague:20240220T150000
DTSTAMP:20260419T180254
CREATED:20240214T082128Z
LAST-MODIFIED:20240214T082128Z
UID:794-1708437600-1708441200@www.biomed.cas.cz
SUMMARY:Hodnocení výzkumu v Akademii věd ČR
DESCRIPTION:Přednášející:  prof. Ing. Jiří Homola\, CSc.\, DSc. \nOrganizace přednášky byla projednána a schválena na schůzi Rady areálu dne 15.1.2024. \nVzhledem k projednávanému tématu a v návaznosti na administraci procesu hodnocení\, se přednáška bude konat pouze v českém jazyce.
URL:https://www.biomed.cas.cz/event/hodnoceni-vyzkumu-v-akademii-ved-cr/
LOCATION:Posluchárna Milana Haška / Milan Hašek Auditorium
END:VEVENT
END:VCALENDAR