BEGIN:VCALENDAR
VERSION:2.0
PRODID:-// - ECPv6.6.3//NONSGML v1.0//EN
CALSCALE:GREGORIAN
METHOD:PUBLISH
X-ORIGINAL-URL:https://www.biomed.cas.cz
X-WR-CALDESC:Akce na 
REFRESH-INTERVAL;VALUE=DURATION:PT1H
X-Robots-Tag:noindex
X-PUBLISHED-TTL:PT1H
BEGIN:VTIMEZONE
TZID:Europe/Prague
BEGIN:DAYLIGHT
TZOFFSETFROM:+0100
TZOFFSETTO:+0200
TZNAME:CEST
DTSTART:20240331T010000
END:DAYLIGHT
BEGIN:STANDARD
TZOFFSETFROM:+0200
TZOFFSETTO:+0100
TZNAME:CET
DTSTART:20241027T010000
END:STANDARD
END:VTIMEZONE
BEGIN:VEVENT
DTSTART;TZID=Europe/Prague:20240228T150000
DTEND;TZID=Europe/Prague:20240228T160000
DTSTAMP:20260419T143323
CREATED:20240228T081937Z
LAST-MODIFIED:20240228T081937Z
UID:798-1709132400-1709136000@www.biomed.cas.cz
SUMMARY:Seminář Prasoon Kumar Thakur\, M.Sc.
DESCRIPTION:“Splicing in the world of marine diplonemids” \nRecent surveys of marine biodiversity have revealed the abundance and diversity of planktonic diplonemids. By sequencing the genomes and transcriptomes of six marine diplonemids and performing comprehensive splice site analyses\, we identified numerous non-canonical introns and mapped their common features\, shedding light on the evolution of RNA splicing in these abundant unicellular organisms.
URL:https://www.biomed.cas.cz/event/seminar-prasoon-kumar-thakur-m-sc/
LOCATION:Posluchárna Milana Haška / Milan Hašek Auditorium
ORGANIZER;CN="%C3%9AMG":MAILTO:leona.krausova@img.cas.cz
END:VEVENT
END:VCALENDAR