BEGIN:VCALENDAR
VERSION:2.0
PRODID:-// - ECPv6.6.3//NONSGML v1.0//EN
CALSCALE:GREGORIAN
METHOD:PUBLISH
X-ORIGINAL-URL:https://www.biomed.cas.cz
X-WR-CALDESC:Akce na 
REFRESH-INTERVAL;VALUE=DURATION:PT1H
X-Robots-Tag:noindex
X-PUBLISHED-TTL:PT1H
BEGIN:VTIMEZONE
TZID:Europe/Prague
BEGIN:DAYLIGHT
TZOFFSETFROM:+0100
TZOFFSETTO:+0200
TZNAME:CEST
DTSTART:20240331T010000
END:DAYLIGHT
BEGIN:STANDARD
TZOFFSETFROM:+0200
TZOFFSETTO:+0100
TZNAME:CET
DTSTART:20241027T010000
END:STANDARD
END:VTIMEZONE
BEGIN:VEVENT
DTSTART;TZID=Europe/Prague:20240417T150000
DTEND;TZID=Europe/Prague:20240417T160000
DTSTAMP:20260419T141454
CREATED:20240410T072013Z
LAST-MODIFIED:20240410T072013Z
UID:876-1713366000-1713369600@www.biomed.cas.cz
SUMMARY:Seminář Kristýna Hrychová\, M.Sc.
DESCRIPTION:“Chromatin ADP-ribosylation in neurodegenerative disease” \nADP-ribosylation is a common protein post-translational modification that regulates numerous cellular processes\, including transcription\, cell proliferation and differentiation\, immune and stress responses\, aging\, and cell death. One of its most extensively studied roles is in DNA damage response and subsequent DNA repair. Moreover\, deregulation of ADP-ribose metabolism is linked to neurological and neurodevelopmental disorders. Interestingly\, our recent work reveals that serine ADP-ribosylation is largely dispensable for DNA repair. We propose that deregulated serine ADP-ribosylation might instead lead to alterations in other histone modifications\, changes in chromatin remodeling and gene expression\, and consequently could contribute to the development of neurological diseases.
URL:https://www.biomed.cas.cz/event/seminar-kristyna-hrychova-m-sc/
LOCATION:Posluchárna Milana Haška / Milan Hašek Auditorium
ORGANIZER;CN="%C3%9AMG":MAILTO:leona.krausova@img.cas.cz
END:VEVENT
END:VCALENDAR