BEGIN:VCALENDAR
VERSION:2.0
PRODID:-// - ECPv6.6.3//NONSGML v1.0//EN
CALSCALE:GREGORIAN
METHOD:PUBLISH
X-ORIGINAL-URL:https://www.biomed.cas.cz
X-WR-CALDESC:Akce na 
REFRESH-INTERVAL;VALUE=DURATION:PT1H
X-Robots-Tag:noindex
X-PUBLISHED-TTL:PT1H
BEGIN:VTIMEZONE
TZID:Europe/Prague
BEGIN:DAYLIGHT
TZOFFSETFROM:+0100
TZOFFSETTO:+0200
TZNAME:CEST
DTSTART:20240331T010000
END:DAYLIGHT
BEGIN:STANDARD
TZOFFSETFROM:+0200
TZOFFSETTO:+0100
TZNAME:CET
DTSTART:20241027T010000
END:STANDARD
END:VTIMEZONE
BEGIN:VEVENT
DTSTART;TZID=Europe/Prague:20240625T130000
DTEND;TZID=Europe/Prague:20240625T140000
DTSTAMP:20260419T173918
CREATED:20240917T083708Z
LAST-MODIFIED:20240917T083708Z
UID:2140-1719320400-1719324000@www.biomed.cas.cz
SUMMARY:IEM CAS μLectures: Checklists for Publishing Images and Introduction to Image Archives
DESCRIPTION:μLectures is a monthly seminar series designed to enhance researchers‘ understanding of microscopy’s fundamental workings and principles. Each session\, lasting 30 minutes\, focuses on a specific concept or topic within microscopy. The practical information presented aims to deepen researchers‘ comprehension of their microscopy experiments\, giving them a better overview of the options available and enabling them to improve their experimental design and more effectively identify and resolve potential issues. \nAnnotation\nThanks to speedy technological developments\, microscopy images document a significant part of scientific discoveries in this data-intensive era. It is becoming increasingly important to ensure that images are presented in a transparent and reproducible manner. However\, there are only a few guidelines available for publishing terabytes to petabytes of image data\, while research funding agencies require data to be published in open repositories. The objective of this seminar is to provide an overview of the key aspects of data publication\, with a particular focus on image data. In addition\, the seminar will offer a brief introduction to repositories and other relevant resources. \nThe seminar will take place on 25. 6. 2024 from 1 p.m. in the Turquoise Auditorium of the IEM CAS. It will also be possible to join online using this link. \nRegistration\nRegistration is not required\, but we will be happy if you let us know (in person or at iva.svecova@iem.cas.cz) and if we have an idea of how many people are planning to come.
URL:https://www.biomed.cas.cz/event/iem-cas-%ce%bclectures-checklists-for-publishing-images-and-introduction-to-image-archives/
END:VEVENT
END:VCALENDAR