BEGIN:VCALENDAR
VERSION:2.0
PRODID:-// - ECPv6.6.3//NONSGML v1.0//EN
CALSCALE:GREGORIAN
METHOD:PUBLISH
X-ORIGINAL-URL:https://www.biomed.cas.cz
X-WR-CALDESC:Akce na 
REFRESH-INTERVAL;VALUE=DURATION:PT1H
X-Robots-Tag:noindex
X-PUBLISHED-TTL:PT1H
BEGIN:VTIMEZONE
TZID:Europe/Prague
BEGIN:DAYLIGHT
TZOFFSETFROM:+0100
TZOFFSETTO:+0200
TZNAME:CEST
DTSTART:20250330T010000
END:DAYLIGHT
BEGIN:STANDARD
TZOFFSETFROM:+0200
TZOFFSETTO:+0100
TZNAME:CET
DTSTART:20251026T010000
END:STANDARD
END:VTIMEZONE
BEGIN:VEVENT
DTSTART;TZID=Europe/Prague:20250206T140000
DTEND;TZID=Europe/Prague:20250206T150000
DTSTAMP:20260419T194047
CREATED:20250204T105313Z
LAST-MODIFIED:20250204T105353Z
UID:2299-1738850400-1738854000@www.biomed.cas.cz
SUMMARY:Seminář - Prof. Cheng Zhu - "Mechanotransduction through immunoreceptors"
DESCRIPTION:Dear colleagues\, \nI am delighted to invite you to a seminar by Prof. Cheng Zhu (Georgia Institute of Technology\, USA) at the Institute of Molecular Genetics on February 6 at 14:00 (Hasek Lecture Hall). Prof. Zhu is a recognized leader and pioneer at the interface of immunology\, structural biology\, and mechanosensing with groundbreaking contributions that have advanced our understanding of how immune receptors work at the cell-cell contacts. \nInvitation: https://www.img.cas.cz/files/2025/01/20250206_Cheng_Zhu.pdf \nPublication profile: https://scholar.google.com/citations?user=_tPv2wEAAAAJ&hl=en&oi=ao \nWith best regards\, \nOndrej Stepanek
URL:https://www.biomed.cas.cz/event/seminar-mechanotransduction-through-immunoreceptors/
LOCATION:Posluchárna Milana Haška / Milan Hašek Auditorium
END:VEVENT
END:VCALENDAR