BEGIN:VCALENDAR
VERSION:2.0
PRODID:-// - ECPv6.6.3//NONSGML v1.0//EN
CALSCALE:GREGORIAN
METHOD:PUBLISH
X-ORIGINAL-URL:https://www.biomed.cas.cz
X-WR-CALDESC:Akce na 
REFRESH-INTERVAL;VALUE=DURATION:PT1H
X-Robots-Tag:noindex
X-PUBLISHED-TTL:PT1H
BEGIN:VTIMEZONE
TZID:Europe/Prague
BEGIN:DAYLIGHT
TZOFFSETFROM:+0100
TZOFFSETTO:+0200
TZNAME:CEST
DTSTART:20250330T010000
END:DAYLIGHT
BEGIN:STANDARD
TZOFFSETFROM:+0200
TZOFFSETTO:+0100
TZNAME:CET
DTSTART:20251026T010000
END:STANDARD
END:VTIMEZONE
BEGIN:VEVENT
DTSTART;TZID=Europe/Prague:20250211T090000
DTEND;TZID=Europe/Prague:20250211T120000
DTSTAMP:20260423T232352
CREATED:20250116T105835Z
LAST-MODIFIED:20250116T105835Z
UID:2286-1739264400-1739275200@www.biomed.cas.cz
SUMMARY:Školení Genderová dimenze v obsahu výzkumu
DESCRIPTION:Seminář povedou Eva Oliva a Gabriela Langhammerová z NKC – gender a věda. \nNa semináři se dozvíte:\n– jaké jsou požadavky evropských i domácích grantových agentur\n– co je genderová dimenze a proč je důležité ji zohlednit\n– jaká je souvislost s ins􀀃tucionální změnou a plány genderové rovnos􀀃\n– v čem spočívají koncepty intersekcionality a inkluzivity\n– a jak vše začlenit do obsahu výzkumu
URL:https://www.biomed.cas.cz/event/skoleni-genderova-dimenze-v-obsahu-vyzkumu/
LOCATION:Posluchárna Milana Haška / Milan Hašek Auditorium
ORGANIZER;CN="%C3%9AMG":MAILTO:leona.krausova@img.cas.cz
END:VEVENT
END:VCALENDAR