BEGIN:VCALENDAR
VERSION:2.0
PRODID:-// - ECPv6.6.3//NONSGML v1.0//EN
CALSCALE:GREGORIAN
METHOD:PUBLISH
X-ORIGINAL-URL:https://www.biomed.cas.cz
X-WR-CALDESC:Akce na 
REFRESH-INTERVAL;VALUE=DURATION:PT1H
X-Robots-Tag:noindex
X-PUBLISHED-TTL:PT1H
BEGIN:VTIMEZONE
TZID:Europe/Prague
BEGIN:DAYLIGHT
TZOFFSETFROM:+0100
TZOFFSETTO:+0200
TZNAME:CEST
DTSTART:20250330T010000
END:DAYLIGHT
BEGIN:STANDARD
TZOFFSETFROM:+0200
TZOFFSETTO:+0100
TZNAME:CET
DTSTART:20251026T010000
END:STANDARD
END:VTIMEZONE
BEGIN:VEVENT
DTSTART;TZID=Europe/Prague:20250326T160000
DTEND;TZID=Europe/Prague:20250326T170000
DTSTAMP:20260420T080616
CREATED:20250313T075437Z
LAST-MODIFIED:20250313T075437Z
UID:2330-1743004800-1743008400@www.biomed.cas.cz
SUMMARY:Seminář Jakub Gemperle\, Ph.D.
DESCRIPTION:“Live-cell magnetic micromanipulation of recycling endosomes reveals their direct effect on actin-based protrusions to promote invasive migration” \nEndocytic recycling pathways play key roles in the re-routing of cargoes through the cell to control a broad range of cellular processes\, and many vesicle trafficking regulators are implicated in progression of disease such as cancer. The Rab11 family (Rab11a\, Rab11b\, and Rab25) control return of internalised cargoes to the plasma membrane\, and Rab25 has been implicated in the aggressiveness of cancer by promoting invasive migration. However\, whilst Rab25 vesicles distribute to the leading of edge of moving cells\, how directly they contribute to cell protrusion is not clear. Here we adopt a magnetogenetic approach that allows direct manipulation of Rab25 positioning to show that localisation to the cell periphery drives the formation of F-actin protrusions. We demonstrate that endogenous Rab25 vesicles coordinate the positioning of key cargoes\, including the actin regulator FMNL1 and integrin β1\, with the activation of Rho GTPases at the plasma membrane to generate and maintain F-actin rich filopodial protrusions and promote cancer cell invasive migration in 3D matrix.
URL:https://www.biomed.cas.cz/event/seminar-jakub-gemperle-ph-d/
LOCATION:Posluchárna Milana Haška / Milan Hašek Auditorium
ORGANIZER;CN="%C3%9AMG":MAILTO:leona.krausova@img.cas.cz
END:VEVENT
END:VCALENDAR