BEGIN:VCALENDAR
VERSION:2.0
PRODID:-// - ECPv6.6.3//NONSGML v1.0//EN
CALSCALE:GREGORIAN
METHOD:PUBLISH
X-ORIGINAL-URL:https://www.biomed.cas.cz
X-WR-CALDESC:Akce na 
REFRESH-INTERVAL;VALUE=DURATION:PT1H
X-Robots-Tag:noindex
X-PUBLISHED-TTL:PT1H
BEGIN:VTIMEZONE
TZID:Europe/Prague
BEGIN:DAYLIGHT
TZOFFSETFROM:+0100
TZOFFSETTO:+0200
TZNAME:CEST
DTSTART:20250330T010000
END:DAYLIGHT
BEGIN:STANDARD
TZOFFSETFROM:+0200
TZOFFSETTO:+0100
TZNAME:CET
DTSTART:20251026T010000
END:STANDARD
END:VTIMEZONE
BEGIN:VEVENT
DTSTART;VALUE=DATE:20250331
DTEND;VALUE=DATE:20250405
DTSTAMP:20260419T221513
CREATED:20250120T104415Z
LAST-MODIFIED:20250120T104415Z
UID:2289-1743379200-1743811199@www.biomed.cas.cz
SUMMARY:Course Processing and Analysis of Microscopic Images in Biomedicine
DESCRIPTION:Dear Colleagues\, \nthe Institute of Molecular Genetics of the Czech Academy of Sciences would like to invite you to the 5-day course „Processing and analysis of microscopic images in biomedicine (PAMIB25)“ intended for PhD students and junior researchers. \nThe course will address fundamental aspects of image data acquisition\, processing\, and analysis\, encompassing techniques in stereology. Alongside theoretical principles\, the course will prioritize hands-on practical learning. Participants will gain proficiency in utilizing the freely available software package Fiji for both basic and advanced analyses. They will learn to assess co-localizations\, analyze data from FRAP and electron microscopy\, track particles\, segment objects in images\, and explore methods of employing artificial intelligence for image segmentation. \nAdditionally\, participants will master techniques to enhance data quality through deconvolution using Huygens software. An interactive session featuring Imaris software will be complemented by practical exercises. Furthermore\, this year introduces a session utilizing NIS-Elements\, a platform for image processing developed in Prague\, and a lecture about the publishing images in scientific journals. Independent practical tasks involving Fiji and Huygens will also constitute a significant component of the course. \nThe course will be held at the Institute of Molecular Genetics of the Czech Academy of Sciences in Prague in March 31 – April 4\, 2025. For more information and link to the registration form\, please\, visit the course website: https://course.img.cas.cz/pamib/. The registration deadline is March 17. \nWhile the course aligns with the Microscopy Methods in Biomedicine\, prior attendance is not a prerequisite for participation. \nThe course will be taught in English. \nOn behalf of the organizers\, \nMichaela Blažíková and Martin Čapek
URL:https://www.biomed.cas.cz/event/course-processing-and-analysis-of-microscopic-images-in-biomedicine/
LOCATION:IMG
END:VEVENT
BEGIN:VEVENT
DTSTART;TZID=Europe/Prague:20250331T150000
DTEND;TZID=Europe/Prague:20250331T160000
DTSTAMP:20260419T221513
CREATED:20250313T075257Z
LAST-MODIFIED:20250313T075257Z
UID:2328-1743433200-1743436800@www.biomed.cas.cz
SUMMARY:20. Metodický seminář BIOCEV-Krč
DESCRIPTION:„Etika a integrita vědeckého výzkumu a právní otázky“ \nSeminář se zaměří na témata: testy vědecké integrity; kdy zapojovat etické komise při řešení deliktů na pracovišti; význam závěrů etických komisí v právních přístupech; autorský zákon v praxi a z hlediska práva. \nJUDr. Ján Matejka\, Ph.D.\nředitel Ústavu státu a práva AV ČR\, v. v. i.
URL:https://www.biomed.cas.cz/event/20-metodicky-seminar-biocev-krc/
LOCATION:Posluchárna Milana Haška / Milan Hašek Auditorium
END:VEVENT
END:VCALENDAR