BEGIN:VCALENDAR
VERSION:2.0
PRODID:-// - ECPv6.6.3//NONSGML v1.0//EN
CALSCALE:GREGORIAN
METHOD:PUBLISH
X-ORIGINAL-URL:https://www.biomed.cas.cz
X-WR-CALDESC:Akce na 
REFRESH-INTERVAL;VALUE=DURATION:PT1H
X-Robots-Tag:noindex
X-PUBLISHED-TTL:PT1H
BEGIN:VTIMEZONE
TZID:Europe/Prague
BEGIN:DAYLIGHT
TZOFFSETFROM:+0100
TZOFFSETTO:+0200
TZNAME:CEST
DTSTART:20250330T010000
END:DAYLIGHT
BEGIN:STANDARD
TZOFFSETFROM:+0200
TZOFFSETTO:+0100
TZNAME:CET
DTSTART:20251026T010000
END:STANDARD
END:VTIMEZONE
BEGIN:VEVENT
DTSTART;VALUE=DATE:20250407
DTEND;VALUE=DATE:20250412
DTSTAMP:20260421T145718
CREATED:20250204T105021Z
LAST-MODIFIED:20250204T105021Z
UID:2297-1743984000-1744415999@www.biomed.cas.cz
SUMMARY:Euro-BioImaging Image Data Community Days 2025
DESCRIPTION:Dear imaging users\, \nwe would  like to inform you about the Image Data Community Days that will be happening from 7-11. April this year. \nThis free week-long online event will bring together Euro-BioImaging Node staff\, researchers and other experts from around the world to explore and exchange on the latest advances in image data through a mix of workshops\, lectures and interactive discussions. \nThe Euro-BioImaging Data Team is pleased to announce that as of now we have officially opened registrations for this event! Find out all about the event and the preliminary agenda here: \nhttps://www.eurobioimaging.eu/our-events/image-data-events/image-data-community-days/ \nWe are very much looking forward to your participation in the week! \nBest\, \nEuro-BioImaging Data Team
URL:https://www.biomed.cas.cz/event/euro-bioimaging-image-data-community-days-2025/
END:VEVENT
BEGIN:VEVENT
DTSTART;TZID=Europe/Prague:20250409T150000
DTEND;TZID=Europe/Prague:20250409T160000
DTSTAMP:20260421T145718
CREATED:20250402T060558Z
LAST-MODIFIED:20250402T060558Z
UID:2349-1744210800-1744214400@www.biomed.cas.cz
SUMMARY:Seminář Jana Smolíková\, Ph.D.
DESCRIPTION:“Analysis of a novel chicken Pax6 mutant” \n Pax6 is known as the „master control gene“ for eye formation\, playing a crucial role in the development of the lens\, retina\, and other ocular structures. It drives the formation of the eye field\, initiates lens differentiation\, and helps establish the retina—all vital for vision. \nWhile the role of Pax6 in eye development is well-studied in other species\, there has been little research on Pax6 in chickens specifically. This gap in knowledge presents an exciting opportunity to understand how the mutation of Pax6 impacts eye formation in birds. \nIn this seminar we’ll explore the role of the Pax6 transcription factor in chicken eye development and this could provide valuable insights into vertebrate eye development.
URL:https://www.biomed.cas.cz/event/seminar-jana-smolikova-ph-d-2/
LOCATION:Posluchárna Milana Haška / Milan Hašek Auditorium
ORGANIZER;CN="%C3%9AMG":MAILTO:leona.krausova@img.cas.cz
END:VEVENT
END:VCALENDAR