BEGIN:VCALENDAR
VERSION:2.0
PRODID:-// - ECPv6.6.3//NONSGML v1.0//EN
CALSCALE:GREGORIAN
METHOD:PUBLISH
X-ORIGINAL-URL:https://www.biomed.cas.cz
X-WR-CALDESC:Akce na 
REFRESH-INTERVAL;VALUE=DURATION:PT1H
X-Robots-Tag:noindex
X-PUBLISHED-TTL:PT1H
BEGIN:VTIMEZONE
TZID:Europe/Prague
BEGIN:DAYLIGHT
TZOFFSETFROM:+0100
TZOFFSETTO:+0200
TZNAME:CEST
DTSTART:20250330T010000
END:DAYLIGHT
BEGIN:STANDARD
TZOFFSETFROM:+0200
TZOFFSETTO:+0100
TZNAME:CET
DTSTART:20251026T010000
END:STANDARD
END:VTIMEZONE
BEGIN:VEVENT
DTSTART;VALUE=DATE:20250513
DTEND;VALUE=DATE:20250515
DTSTAMP:20260420T094953
CREATED:20250306T093941Z
LAST-MODIFIED:20250306T093941Z
UID:2324-1747094400-1747267199@www.biomed.cas.cz
SUMMARY:AI-BASED SEGMENTATION AND TRACKING
DESCRIPTION:Dear all! \nIf you wish to analyze your microscopy image data efficiently using techniques of artificial intelligence\,\nYOU ARE INVITED to the practical course:\nAI-BASED SEGMENTATION AND TRACKING \nThis intensive 2-day course takes place on May 13-14\, 2025\, at the Institute of Molecular Genetics of the Czech Academy of Sciences and focuses intensively on image data segmentation\, cell tracking and denoising using state-of-the-art deep learning methods. Detailed information can be found at:\nhttps://course.img.cas.cz/aist/ \nThe deadline for registration is April 30. \nBest regards\, Martin Čapek\, Michaela Blažíková\, Jan Valečka and Pavel Krist (Zeiss)
URL:https://www.biomed.cas.cz/event/ai-based-segmentation-and-tracking/
LOCATION:IMG
ORGANIZER;CN="%C3%9AMG":MAILTO:leona.krausova@img.cas.cz
END:VEVENT
END:VCALENDAR