BEGIN:VCALENDAR
VERSION:2.0
PRODID:-// - ECPv6.6.3//NONSGML v1.0//EN
CALSCALE:GREGORIAN
METHOD:PUBLISH
X-ORIGINAL-URL:https://www.biomed.cas.cz
X-WR-CALDESC:Akce na 
REFRESH-INTERVAL;VALUE=DURATION:PT1H
X-Robots-Tag:noindex
X-PUBLISHED-TTL:PT1H
BEGIN:VTIMEZONE
TZID:Europe/Prague
BEGIN:DAYLIGHT
TZOFFSETFROM:+0100
TZOFFSETTO:+0200
TZNAME:CEST
DTSTART:20250330T010000
END:DAYLIGHT
BEGIN:STANDARD
TZOFFSETFROM:+0200
TZOFFSETTO:+0100
TZNAME:CET
DTSTART:20251026T010000
END:STANDARD
END:VTIMEZONE
BEGIN:VEVENT
DTSTART;TZID=Europe/Prague:20250521T150000
DTEND;TZID=Europe/Prague:20250521T160000
DTSTAMP:20260420T085626
CREATED:20250513T060824Z
LAST-MODIFIED:20250513T060824Z
UID:2380-1747839600-1747843200@www.biomed.cas.cz
SUMMARY:Seminář David Machač\, M.Sc.
DESCRIPTION:“RORγt⁺ Regulatory T Cells establish a memory footprint for the primary microbiota” \nA balanced immune system relies on regulatory T cells (Tregs) to prevent excessive immune responses. While thymus-derived Tregs are well known\, a unique subset of microbiota-specific\, peripherally induced RORγt⁺ Tregs has emerged as a critical regulator of intestinal immunity and crosstalk with microbial communities. Our data suggests that RORγt⁺ Tregs function as an immunological “memory\,” safeguarding beneficial primordial microbiota\, thus offering a novel paradigm for gut immune homeostasis.
URL:https://www.biomed.cas.cz/event/seminar-david-machac-m-sc/
LOCATION:Posluchárna Milana Haška / Milan Hašek Auditorium
ORGANIZER;CN="%C3%9AMG":MAILTO:leona.krausova@img.cas.cz
END:VEVENT
END:VCALENDAR