BEGIN:VCALENDAR
VERSION:2.0
PRODID:-// - ECPv6.6.3//NONSGML v1.0//EN
CALSCALE:GREGORIAN
METHOD:PUBLISH
X-ORIGINAL-URL:https://www.biomed.cas.cz
X-WR-CALDESC:Akce na 
REFRESH-INTERVAL;VALUE=DURATION:PT1H
X-Robots-Tag:noindex
X-PUBLISHED-TTL:PT1H
BEGIN:VTIMEZONE
TZID:Europe/Prague
BEGIN:DAYLIGHT
TZOFFSETFROM:+0100
TZOFFSETTO:+0200
TZNAME:CEST
DTSTART:20250330T010000
END:DAYLIGHT
BEGIN:STANDARD
TZOFFSETFROM:+0200
TZOFFSETTO:+0100
TZNAME:CET
DTSTART:20251026T010000
END:STANDARD
END:VTIMEZONE
BEGIN:VEVENT
DTSTART;TZID=Europe/Prague:20250526T150000
DTEND;TZID=Europe/Prague:20250526T160000
DTSTAMP:20260420T000537
CREATED:20250423T073816Z
LAST-MODIFIED:20250423T073816Z
UID:2364-1748271600-1748275200@www.biomed.cas.cz
SUMMARY:Lectures „Thermoneutrality and thermogenesis“ and „Thermogenesis: by which means?“
DESCRIPTION:
URL:https://www.biomed.cas.cz/event/lectures-thermoneutrality-and-thermogenesis-and-thermogenesis-by-which-means/
LOCATION:Kinosal\, Vídeňská 1083\, Praha
ORGANIZER;CN="FGU":MAILTO:Olga.Zimmermannova@fgu.cas.cz
END:VEVENT
END:VCALENDAR