BEGIN:VCALENDAR
VERSION:2.0
PRODID:-// - ECPv6.6.3//NONSGML v1.0//EN
CALSCALE:GREGORIAN
METHOD:PUBLISH
X-ORIGINAL-URL:https://www.biomed.cas.cz
X-WR-CALDESC:Akce na 
REFRESH-INTERVAL;VALUE=DURATION:PT1H
X-Robots-Tag:noindex
X-PUBLISHED-TTL:PT1H
BEGIN:VTIMEZONE
TZID:Europe/Prague
BEGIN:DAYLIGHT
TZOFFSETFROM:+0100
TZOFFSETTO:+0200
TZNAME:CEST
DTSTART:20250330T010000
END:DAYLIGHT
BEGIN:STANDARD
TZOFFSETFROM:+0200
TZOFFSETTO:+0100
TZNAME:CET
DTSTART:20251026T010000
END:STANDARD
END:VTIMEZONE
BEGIN:VEVENT
DTSTART;TZID=Europe/Prague:20250602T150000
DTEND;TZID=Europe/Prague:20250602T160000
DTSTAMP:20260420T054736
CREATED:20250305T115745Z
LAST-MODIFIED:20250305T115745Z
UID:2319-1748876400-1748880000@www.biomed.cas.cz
SUMMARY:Přednáška pro nevědce a nevědkyně - V. Varga
DESCRIPTION:„Cesta do nitra buňky“ \nBěhem přednášky podnikneme cestu do nitra živé buňky. Ukážeme si\, jaké nástroje vědci používají\, aby odhalili její mikroskopické struktury\, a jak lze tyto detaily převést do podoby\, kterou můžeme spatřit\npouhým okem. Zároveň zjistíme něco překvapivého – naše buňky mají víc společného\, než byste čekali\, s buňkami nebezpečných parazitů\, například s původcem spavé nemoci. Jak moc jsme si podobní a co to pro nás znamená? To vše odhalíme v průběhu přednášky.
URL:https://www.biomed.cas.cz/event/prednaska-pro-nevedce-a-nevedkyne-v-varga/
LOCATION:Posluchárna Milana Haška / Milan Hašek Auditorium
ORGANIZER;CN="%C3%9AMG":MAILTO:leona.krausova@img.cas.cz
END:VEVENT
END:VCALENDAR