BEGIN:VCALENDAR
VERSION:2.0
PRODID:-// - ECPv6.6.3//NONSGML v1.0//EN
CALSCALE:GREGORIAN
METHOD:PUBLISH
X-ORIGINAL-URL:https://www.biomed.cas.cz
X-WR-CALDESC:Akce na 
REFRESH-INTERVAL;VALUE=DURATION:PT1H
X-Robots-Tag:noindex
X-PUBLISHED-TTL:PT1H
BEGIN:VTIMEZONE
TZID:Europe/Prague
BEGIN:DAYLIGHT
TZOFFSETFROM:+0100
TZOFFSETTO:+0200
TZNAME:CEST
DTSTART:20250330T010000
END:DAYLIGHT
BEGIN:STANDARD
TZOFFSETFROM:+0200
TZOFFSETTO:+0100
TZNAME:CET
DTSTART:20251026T010000
END:STANDARD
END:VTIMEZONE
BEGIN:VEVENT
DTSTART;VALUE=DATE:20250615
DTEND;VALUE=DATE:20250623
DTSTAMP:20260420T000537
CREATED:20250321T112735Z
LAST-MODIFIED:20250321T112735Z
UID:2344-1749945600-1750636799@www.biomed.cas.cz
SUMMARY:EMBO Practical Course "Super-resolution in Light Microscopy"
DESCRIPTION:Dear Colleagues\, \n  \nWe are pleased to announce the upcoming EMBO Practical Course „Super-resolution in Light Microscopy\,“ \ntaking place from June 15–22\, 2025\, Institute of Molecular Genetics of the Czech Academy of Sciences (IMG) in Prague. \n  \nThis 8-day course combines theoretical talks\, lectures from leading experts in the field\, and practical demonstrations with hands-on sessions using advanced microscopy systems. \n  \nFollowing the introductory day\, the course is structured into three thematic 2-day blocks: \n\nConfocal-based super-resolution (optical/mathematical reassignment\, adaptive deconvolution\, and radial fluctuations)\nStructured Illumination Microscopy (SIM)\nNanoscopy techniques (Single-Molecule Localization Microscopy – SMLM\, and Stimulated Emission Depletion microscopy – STED)\n\nThe last day is focused on deconvolution of SR images and QC approaches. \n  \nFor the course\, we have gathered an outstanding group of international experts who will deliver lectures and keynotes and participate actively in practical demonstrations. Leading microscopy companies will provide their latest super-resolution systems\, with application specialists guiding dedicated hands-on sessions. \n  \nThe course is ideally suited for biologists\, microscopy facility staff\, and imaging specialists who wish to enhance their practical expertise and remain at the forefront of microscopy innovations. \n  \nThe registration deadline is April 14\, 2025. \nThe course is offered in a hybrid format: 20 in-person seats and 25 virtual participant slots are available.  \n  \nCourse in numbers: \n16 expert lectures and keynotes by global leaders in microscopy. \n38 intensive practical hours to master super-resolution techniques. \n12 advanced microscopy systems from industry-leading producers. \n4 interactive discussions exploring specialized microscopy topics. \n3 amazing social events for networking with experts \n  \nDetailed course information and registration are available at: \nhttps://meetings.embo.org/event/25-superres-light-microscopy \n  \nProgramme overview: \nhttps://meetings.embo.org/files/2025-03/embo-practical-course-srlm-2025-overview.pdf \n  \nYou can follow us on: \nInstagram: https://www.instagram.com/embo_pc_srlm/  \nFacebook: https://www.facebook.com/embopcsrlm/  \n  \nWe encourage you to apply soon and look forward to welcoming you to Prague! \n  \nBest regards\, \n  \nEMBO Organizing Team
URL:https://www.biomed.cas.cz/event/embo-practical-course-super-resolution-in-light-microscopy/
LOCATION:IMG
END:VEVENT
END:VCALENDAR