BEGIN:VCALENDAR
VERSION:2.0
PRODID:-// - ECPv6.6.3//NONSGML v1.0//EN
CALSCALE:GREGORIAN
METHOD:PUBLISH
X-ORIGINAL-URL:https://www.biomed.cas.cz
X-WR-CALDESC:Akce na 
REFRESH-INTERVAL;VALUE=DURATION:PT1H
X-Robots-Tag:noindex
X-PUBLISHED-TTL:PT1H
BEGIN:VTIMEZONE
TZID:Europe/Prague
BEGIN:DAYLIGHT
TZOFFSETFROM:+0100
TZOFFSETTO:+0200
TZNAME:CEST
DTSTART:20250330T010000
END:DAYLIGHT
BEGIN:STANDARD
TZOFFSETFROM:+0200
TZOFFSETTO:+0100
TZNAME:CET
DTSTART:20251026T010000
END:STANDARD
END:VTIMEZONE
BEGIN:VEVENT
DTSTART;TZID=Europe/Prague:20250703T150000
DTEND;TZID=Europe/Prague:20250703T163000
DTSTAMP:20260420T000537
CREATED:20250619T071834Z
LAST-MODIFIED:20250619T071834Z
UID:2389-1751554800-1751560200@www.biomed.cas.cz
SUMMARY:Seminar "Adoptive cell therapy with Treg cells obtained from thymic tissue (thyTreg): from a clinical trial using autologous cells to preclinical research exploring allogeneic applications"
DESCRIPTION:We would like to invite you to the seminar \n********************************** \nDr. Marjorie Pion\n \n„Adoptive cell therapy with Treg cells obtained from thymic tissue (thyTreg): from a clinical trial using autologous cells to preclinical research exploring allogeneic applications“ \nThe seminar will be held on 3rd July 2025 at 15:00 in the Lecture room (0.195) at IMG. \nFor more information see: https://www.img.cas.cz/2025/06/86929-seminar-marjorie-pion/
URL:https://www.biomed.cas.cz/event/seminar-adoptive-cell-therapy-with-treg-cells-obtained-from-thymic-tissue-thytreg-from-a-clinical-trial-using-autologous-cells-to-preclinical-research-exploring-allogeneic-applications/
LOCATION:Posluchárna 0.195 / Lecture room 0.195
END:VEVENT
END:VCALENDAR