BEGIN:VCALENDAR
VERSION:2.0
PRODID:-// - ECPv6.6.3//NONSGML v1.0//EN
CALSCALE:GREGORIAN
METHOD:PUBLISH
X-ORIGINAL-URL:https://www.biomed.cas.cz
X-WR-CALDESC:Akce na 
REFRESH-INTERVAL;VALUE=DURATION:PT1H
X-Robots-Tag:noindex
X-PUBLISHED-TTL:PT1H
BEGIN:VTIMEZONE
TZID:Europe/Prague
BEGIN:DAYLIGHT
TZOFFSETFROM:+0100
TZOFFSETTO:+0200
TZNAME:CEST
DTSTART:20250330T010000
END:DAYLIGHT
BEGIN:STANDARD
TZOFFSETFROM:+0200
TZOFFSETTO:+0100
TZNAME:CET
DTSTART:20251026T010000
END:STANDARD
END:VTIMEZONE
BEGIN:VEVENT
DTSTART;TZID=Europe/Prague:20251015T150000
DTEND;TZID=Europe/Prague:20251015T160000
DTSTAMP:20260420T034859
CREATED:20251008T123139Z
LAST-MODIFIED:20251008T123139Z
UID:2418-1760540400-1760544000@www.biomed.cas.cz
SUMMARY:Seminář Kihyuck Kwak
DESCRIPTION:Department of Microbiology\, College of Medicine\, Yonsei University\, Seoul\, South Korea \n“Intrinsic mechanisms governing B cell discrimination between self and non-self antigens”
URL:https://www.biomed.cas.cz/event/seminar-kihyuck-kwak/
LOCATION:Posluchárna Milana Haška / Milan Hašek Auditorium
ORGANIZER;CN="%C3%9AMG":MAILTO:leona.krausova@img.cas.cz
END:VEVENT
END:VCALENDAR