BEGIN:VCALENDAR
VERSION:2.0
PRODID:-// - ECPv6.6.3//NONSGML v1.0//EN
CALSCALE:GREGORIAN
METHOD:PUBLISH
X-ORIGINAL-URL:https://www.biomed.cas.cz
X-WR-CALDESC:Akce na 
REFRESH-INTERVAL;VALUE=DURATION:PT1H
X-Robots-Tag:noindex
X-PUBLISHED-TTL:PT1H
BEGIN:VTIMEZONE
TZID:Europe/Prague
BEGIN:DAYLIGHT
TZOFFSETFROM:+0100
TZOFFSETTO:+0200
TZNAME:CEST
DTSTART:20250330T010000
END:DAYLIGHT
BEGIN:STANDARD
TZOFFSETFROM:+0200
TZOFFSETTO:+0100
TZNAME:CET
DTSTART:20251026T010000
END:STANDARD
END:VTIMEZONE
BEGIN:VEVENT
DTSTART;VALUE=DATE:20251118
DTEND;VALUE=DATE:20251122
DTSTAMP:20260419T144606
CREATED:20250923T132640Z
LAST-MODIFIED:20250923T132716Z
UID:2411-1763424000-1763769599@www.biomed.cas.cz
SUMMARY:Single-cell course – laboratory methods
DESCRIPTION:Dear Colleagues\,\n\nWe are excited to invite you to an intensive introductory three-day course on Single-cell analysis - from qPCR to sequencing\, organised by the Institute of Biotechnology (Radek Šindelka) and the Institute of Molecular Genetics (Michal Kolář).\n\nDates: November 18\, 19\, and 21\nTime: 9:00 AM – 3:00 PM\nLocation: Krč Campus (IMG Lecture room 0.195 – Jágr’s hall)\n\nThis course will provide valuable insights and practical skills in the rapidly evolving field of laboratory methods for single-cell analyses and spatial transcriptomics. With a maximum of 25 participants\, you’ll receive personalised attention and the opportunity to engage deeply with the subject.\n\nIn early December\, a course on bioinformatical analysis will follow up with particular focus on single-cell RNA-seq data.\n\nIf you’re interested in joining us\, please respond via email to sindelka@ibt.cas.cz as soon as possible\, as space is limited.\n\nWe look forward to an enriching experience together!\n\nBest regards\,\n\nRadek Šindelka & Michal Kolář
URL:https://www.biomed.cas.cz/event/single-cell-course-laboratory-methods/
LOCATION:Posluchárna 0.195 / Lecture room 0.195
END:VEVENT
BEGIN:VEVENT
DTSTART;TZID=Europe/Prague:20251118T093000
DTEND;TZID=Europe/Prague:20251118T123000
DTSTAMP:20260419T144606
CREATED:20251013T070142Z
LAST-MODIFIED:20251013T070142Z
UID:2421-1763458200-1763469000@www.biomed.cas.cz
SUMMARY:FlowJo™ 11 training
DESCRIPTION:Dear colleagues\, \non November 18th 2025 we will organize FlowJo™ 11 training with Ioannis Panetas\, Ph.D.- application specialist from BD. \nFlowJo is a powerful cytometry data analysis software available to users of our Flow Cytometry Core Facility. \nMore information about FlowJo: https://www.flowjo.com/solutions/flowjo \nThis year\, the training will focus on the new version 11\, which\, in terms of the user interface and some features\, is quite different from the previous version. This training is therefore also suitable for more experienced FlowJo users who have not yet become familiar with version 11. \n  \nTuesday November 18th 2025\, 9:30 am — 12:30pm \nInstitute of Molecular Genetics of the Czech Academy of Sciences \nVídeňská 1083\n142 20 Prague 4\, Czech Republic \nHašek Auditorium \n  \n9:30 AM – 10:15 AM | Unveiling FlowJo 11\, the future of data analysis\nCome hear about the newest version of FlowJo Software! We’ll tour the new immersive workbench and discuss features unique to this version such as the Metadata Manager\, Graph Gallery\, virtual concatenation\, charts\, and integrated algorithms. \n10:30 AM – 12:30 PM | Hands-on training for FlowJo 11\nAttendees will be guided through the analysis of a shared data set. To participate\, users are expected to bring their own laptop\, complete all downloads and installs\, and have an active FlowJo Portal license. Please follow the instructions here \n  \nIf you don‘ have license on your laptop\, please check yes in the related question in registration form and BD will send you temporary license. \n  \nThere is no fee for the training. \n  \nIf you want to attend\, please fill the registration form: https://forms.gle/23UrU6fmdn7TxSxCA \nBest regards \nMatyáš Šíma
URL:https://www.biomed.cas.cz/event/flowjo-11-training/
LOCATION:Posluchárna Milana Haška / Milan Hašek Auditorium
ORGANIZER;CN="%C3%9AMG":MAILTO:leona.krausova@img.cas.cz
END:VEVENT
END:VCALENDAR