BEGIN:VCALENDAR
VERSION:2.0
PRODID:-// - ECPv6.6.3//NONSGML v1.0//EN
CALSCALE:GREGORIAN
METHOD:PUBLISH
X-ORIGINAL-URL:https://www.biomed.cas.cz
X-WR-CALDESC:Akce na 
REFRESH-INTERVAL;VALUE=DURATION:PT1H
X-Robots-Tag:noindex
X-PUBLISHED-TTL:PT1H
BEGIN:VTIMEZONE
TZID:Europe/Prague
BEGIN:DAYLIGHT
TZOFFSETFROM:+0100
TZOFFSETTO:+0200
TZNAME:CEST
DTSTART:20260329T010000
END:DAYLIGHT
BEGIN:STANDARD
TZOFFSETFROM:+0200
TZOFFSETTO:+0100
TZNAME:CET
DTSTART:20261025T010000
END:STANDARD
END:VTIMEZONE
BEGIN:VEVENT
DTSTART;TZID=Europe/Prague:20260107T150000
DTEND;TZID=Europe/Prague:20260107T160000
DTSTAMP:20260420T155148
CREATED:20251216T124552Z
LAST-MODIFIED:20251216T124552Z
UID:2469-1767798000-1767801600@www.biomed.cas.cz
SUMMARY:Seminář Veronika Niederlová
DESCRIPTION:“CD8+ T cells in infection: Orchestration of the effector and memory fates” \nIn infection\, naive CD8+ T cells differentiate into short-lived effector cells\, which provide immediate protection against the pathogen\, and long-lived memory cells\, which retain immunological information long after pathogen clearance. Using single-cell multiomics techniques and in vivo tracking of individual clonal families\, we show which factors drive the effector versus memory cell fate decision. \n 
URL:https://www.biomed.cas.cz/event/seminar-veronika-niederlova/
LOCATION:Posluchárna Milana Haška / Milan Hašek Auditorium
ORGANIZER;CN="%C3%9AMG":MAILTO:leona.krausova@img.cas.cz
END:VEVENT
END:VCALENDAR