BEGIN:VCALENDAR
VERSION:2.0
PRODID:-// - ECPv6.6.3//NONSGML v1.0//EN
CALSCALE:GREGORIAN
METHOD:PUBLISH
X-ORIGINAL-URL:https://www.biomed.cas.cz
X-WR-CALDESC:Akce na 
REFRESH-INTERVAL;VALUE=DURATION:PT1H
X-Robots-Tag:noindex
X-PUBLISHED-TTL:PT1H
BEGIN:VTIMEZONE
TZID:Europe/Prague
BEGIN:DAYLIGHT
TZOFFSETFROM:+0100
TZOFFSETTO:+0200
TZNAME:CEST
DTSTART:20260329T010000
END:DAYLIGHT
BEGIN:STANDARD
TZOFFSETFROM:+0200
TZOFFSETTO:+0100
TZNAME:CET
DTSTART:20261025T010000
END:STANDARD
END:VTIMEZONE
BEGIN:VEVENT
DTSTART;TZID=Europe/Prague:20260121T150000
DTEND;TZID=Europe/Prague:20260121T160000
DTSTAMP:20260419T193848
CREATED:20260112T143738Z
LAST-MODIFIED:20260112T143738Z
UID:2476-1769007600-1769011200@www.biomed.cas.cz
SUMMARY:Seminář Anna Koslová
DESCRIPTION:“Integration and reactivation of endogenous DNA viruses in unicellular eukaryotes” \nViruses infecting protists play important ecological and evolutionary roles by modulating microbial population dynamics and contributing to genome evolution through endogenization. Protist genomes contain tens to thousands of endogenous viral elements (EVEs)\, many of which appear intact and may represent functional viruses. Some EVEs are related to virophages—viruses that parasitize on larger “giant viruses” infecting eukaryotic hosts. Using an isolated virophage system\, we aim to uncover the molecular mechanisms underlying viral DNA integration and reactivation.
URL:https://www.biomed.cas.cz/event/seminar-anna-koslova/
LOCATION:Posluchárna Milana Haška / Milan Hašek Auditorium
ORGANIZER;CN="%C3%9AMG":MAILTO:leona.krausova@img.cas.cz
END:VEVENT
END:VCALENDAR