BEGIN:VCALENDAR
VERSION:2.0
PRODID:-// - ECPv6.6.3//NONSGML v1.0//EN
CALSCALE:GREGORIAN
METHOD:PUBLISH
X-ORIGINAL-URL:https://www.biomed.cas.cz
X-WR-CALDESC:Akce na 
REFRESH-INTERVAL;VALUE=DURATION:PT1H
X-Robots-Tag:noindex
X-PUBLISHED-TTL:PT1H
BEGIN:VTIMEZONE
TZID:Europe/Prague
BEGIN:DAYLIGHT
TZOFFSETFROM:+0100
TZOFFSETTO:+0200
TZNAME:CEST
DTSTART:20260329T010000
END:DAYLIGHT
BEGIN:STANDARD
TZOFFSETFROM:+0200
TZOFFSETTO:+0100
TZNAME:CET
DTSTART:20261025T010000
END:STANDARD
END:VTIMEZONE
BEGIN:VEVENT
DTSTART;VALUE=DATE:20260303
DTEND;VALUE=DATE:20260304
DTSTAMP:20260419T175407
CREATED:20260223T091618Z
LAST-MODIFIED:20260223T091618Z
UID:2491-1772496000-1772582399@www.biomed.cas.cz
SUMMARY:BD Biosciences – Lunch and Learn Seminar
DESCRIPTION:Dear colleagues\, \nWe would like to invite you to join Lunch & Learn seminar focused on Panel Design Strategy in Flow Cytometry. This session is designed to support anyone involved in planning\, optimizing\, or performing multicolor flow cytometry experiments by providing both conceptual guidance and practical demonstrations. \n  \nMore information and registration. \nFlyer \n  \nRegistration is free. \n  \nBest regards \n  \n— \n\n\n\n\n\n\nMatyáš Šíma\, Ph.D.
URL:https://www.biomed.cas.cz/event/bd-biosciences-lunch-and-learn-seminar/
END:VEVENT
END:VCALENDAR